BEGIN:VCALENDAR
VERSION:2.0
PRODID:icalendar-ruby
CALSCALE:GREGORIAN
METHOD:PUBLISH
BEGIN:VEVENT
DTSTAMP:20260426T035501Z
UID:51-1689802@stmarksbarriefield.com
DTSTART:20240403T180000Z
DTEND:20240403T190000Z
CLASS:PUBLIC
CREATED:20260425T202912
DESCRIPTION:You are invited to join us at St. Mark’s Anglican Church Hall
  on Wednesdays at 2:00 p.m. for a time of fellowship and discussion.\nIt i
 s open to serving and retired members of the CAF.\nThis will be a safe pla
 ce and time to meet and chat with alike others.\n 
LAST-MODIFIED:20260425T202912
LOCATION:St. Mark's Parish Hall
SUMMARY:Veterans Fellowship
URL;VALUE=URI:https://www.stmarksbarriefield.com/events/veterans-fellowship
 /2024-04-03
ATTACH;FILENAME=Veterans.jpg;FMTTYPE=image/jpeg:https://dq5pwpg1q8ru0.cloud
 front.net/2021/09/09/13/46/05/ea9ceb82-d767-4582-8d3e-68eadbeec5d0/Veteran
 s.jpg
END:VEVENT
END:VCALENDAR
