BEGIN:VCALENDAR
VERSION:2.0
PRODID:icalendar-ruby
CALSCALE:GREGORIAN
METHOD:PUBLISH
BEGIN:VEVENT
DTSTAMP:20260420T060524Z
UID:270-341096@stmarksbarriefield.com
DTSTART:20250204T003000Z
DTEND:20250204T023000Z
CLASS:PUBLIC
CREATED:20250122T084742
DESCRIPTION:For further details of this program/mission\, please click here
LAST-MODIFIED:20250122T084742
LOCATION:St. Mark's Parish Hall
SUMMARY:St. Mark's Martial Arts Club
URL;VALUE=URI:https://www.stmarksbarriefield.com/events/st-marks-martial-ar
 ts-club/2025-02-03
ATTACH;FILENAME=Join-St.-Mark%E2%80%99s-Martial-Arts-Group.jpg;FMTTYPE=imag
 e/jpeg:https://dq5pwpg1q8ru0.cloudfront.net/2025/01/22/13/47/41/571a346e-8
 58f-4390-9454-95f328d704d7/Join-St.-Mark%25E2%2580%2599s-Martial-Arts-Grou
 p.jpg
END:VEVENT
END:VCALENDAR
