BEGIN:VCALENDAR
VERSION:2.0
PRODID:icalendar-ruby
CALSCALE:GREGORIAN
METHOD:PUBLISH
BEGIN:VEVENT
DTSTAMP:20260425T033039Z
UID:323-1389712@stmarksbarriefield.com
DTSTART:20260506T220000Z
DTEND:20260506T230000Z
CLASS:PUBLIC
CREATED:20260318T204915
DESCRIPTION:A demonstration by the Martial Arts Group kids.
LAST-MODIFIED:20260318T204915
LOCATION:St. Mark's Parish Hall
SUMMARY:Martial Arts Group Demonstration
URL;VALUE=URI:https://www.stmarksbarriefield.com/events/martial-arts-group-
 demonstration/2026-05-06
ATTACH;FILENAME=Martial-Arts.jpeg;FMTTYPE=image/jpeg:https://dq5pwpg1q8ru0.
 cloudfront.net/2026/03/19/00/49/15/d8cd06f8-004f-430a-b483-ec5a4cba746e/Ma
 rtial-Arts.jpeg
END:VEVENT
END:VCALENDAR
