BEGIN:VCALENDAR
VERSION:2.0
PRODID:icalendar-ruby
CALSCALE:GREGORIAN
METHOD:PUBLISH
BEGIN:VEVENT
DTSTAMP:20260426T042134Z
UID:46-1689478@stmarksbarriefield.com
DTSTART:20261025T123000Z
DTEND:20261025T133000Z
CLASS:PUBLIC
CREATED:20260425T202911
DESCRIPTION:IN-PERSON WORSHIP ONLY\n 
LAST-MODIFIED:20260425T202911
LOCATION:St. Mark's Church
SUMMARY:Holy Communion (BCP)
URL;VALUE=URI:https://www.stmarksbarriefield.com/events/holy-communion-bcp/
 2026-10-25
ATTACH;FILENAME=IMG_9558-Edit-1.jpg;FMTTYPE=image/jpeg:https://dq5pwpg1q8ru
 0.cloudfront.net/2022/06/09/19/33/25/1150cb04-884e-45d4-ab45-82cb6916c203/
 IMG_9558-Edit-1.jpg
END:VEVENT
END:VCALENDAR
