BEGIN:VCALENDAR
VERSION:2.0
PRODID:icalendar-ruby
CALSCALE:GREGORIAN
METHOD:PUBLISH
BEGIN:VEVENT
DTSTAMP:20260425T134302Z
UID:317-1683637@stmarksbarriefield.com
DTSTART:20261008T143000Z
DTEND:20261008T160000Z
CLASS:PUBLIC
CREATED:20260425T070145
DESCRIPTION:You are invited to join us in the parish hall at St. Mark's Chu
 rch\, Barriefield on Thursdays at 10:30 am to 12 noon (weather permitting)
  for easy stretching\, self-care\, balance and fragility avoidance exercis
 es.\nAll fitness levels are welcome (including those with assistive device
 s like walkers\, wheelchairs\, etc.)  Bring a buddy\, join up and make ne
 w friends\, while pampering yourself.\nTo register\, and for more informat
 ion\, please call Mercedes at 613-417-1723.
LAST-MODIFIED:20260425T070145
LOCATION:
SUMMARY:EZ Fitness for Seniors
URL;VALUE=URI:https://www.stmarksbarriefield.com/events/ez-fitness-for-seni
 ors/2026-10-08
ATTACH;FILENAME=EZ-Fitness.png;FMTTYPE=image/png:https://dq5pwpg1q8ru0.clou
 dfront.net/2026/01/09/00/26/18/ad5fca74-af50-446b-8257-6f477e2a697a/EZ-Fit
 ness.png
END:VEVENT
END:VCALENDAR
