BEGIN:VCALENDAR
VERSION:2.0
PRODID:icalendar-ruby
CALSCALE:GREGORIAN
METHOD:PUBLISH
BEGIN:VEVENT
DTSTAMP:20260425T033024Z
UID:324-1661040@stmarksbarriefield.com
DTSTART:20260509T150000Z
DTEND:20260509T160000Z
CLASS:PUBLIC
CREATED:20260422T124757
DESCRIPTION:
LAST-MODIFIED:20260422T124757
LOCATION:
SUMMARY:Elaine Bryan Funeral
URL;VALUE=URI:https://www.stmarksbarriefield.com/events/elaine-bryan-funera
 l/2026-05-09
END:VEVENT
END:VCALENDAR
