BEGIN:VCALENDAR
VERSION:2.0
PRODID:icalendar-ruby
CALSCALE:GREGORIAN
METHOD:PUBLISH
BEGIN:VEVENT
DTSTAMP:20260425T033330Z
UID:322-1613399@stmarksbarriefield.com
DTSTART:20260506T130000Z
DTEND:20260506T190000Z
CLASS:PUBLIC
CREATED:20260416T112818
DESCRIPTION:\nThe Diocesan ACW annual meeting will be held on Wednesday\, M
 ay 6 at Christ Church\, Kingston.\nRegistration starts at 9 am with refres
 hments provided. At 10 am\, Holy Eucharist will be celebrated by Bishop Wi
 lliam Cliff.\nThe guest speaker is Tricia Archambault from Family and Chil
 dren Services\, Frontenac\, Lennox and Addington. She will speak about the
  organization itself as well as talk about events and opportunities that a
 re available with FACSFLA.\nLunch provided followed by the business meetin
 g. All ladies are invited to attend the meeting.  \nTo register\, please
  notify and pay Katherine Huffman before Sunday\, 26 April.\n
LAST-MODIFIED:20260416T112818
LOCATION:Christ Church Kingston\, 990 Sydenham Road
SUMMARY:Diocesan ACW Annual General Meeting
URL;VALUE=URI:https://www.stmarksbarriefield.com/events/diocesan-acw-annual
 -general-meeting/2026-05-06
ATTACH;FILENAME=ACW-Annual-General-Meeting.png;FMTTYPE=image/png:https://dq
 5pwpg1q8ru0.cloudfront.net/2026/03/13/18/09/51/0442abc5-8554-4541-aad6-259
 c91e08b0b/ACW-Annual-General-Meeting.png
END:VEVENT
END:VCALENDAR
